BEGIN:VCALENDAR
PRODID:-//sitepark/sitekit//3.0/EN
VERSION:2.0
CALSCALE:GREGORIAN
BEGIN:VEVENT
UID:56281-0
DTSTAMP:20260420T200611Z
SUMMARY:Kultursommer 2026 - الحفلات الموسيقية/المسرح/
 الفنون الصغيرة
DESCRIPTION:
URL:https://www.salzgitter.de/kultursommer-salzgitter
DTSTART;VALUE=DATE:20260721
DTEND;VALUE=DATE:20260811
LOCATION:Museumstraße 34\, 38229 Salzgitter (Salder)
CATEGORIES:الأطفال,كاباريه,حفلة موسيقية,المسر
 ح
END:VEVENT
END:VCALENDAR
