BEGIN:VCALENDAR
PRODID:-//sitepark/sitekit//3.0/EN
VERSION:2.0
CALSCALE:GREGORIAN
BEGIN:VEVENT
UID:56281-0
DTSTAMP:20260420T201149Z
SUMMARY:Kultursommer 2026 - Concert/Theater/Small Art
DESCRIPTION:
URL:https://www.salzgitter.de/kultursommer-salzgitter
DTSTART;VALUE=DATE:20260721
DTEND;VALUE=DATE:20260811
LOCATION:Museumstraße 34\, 38229 Salzgitter (Salder)
CATEGORIES:Children,Cabaret,Concert,Theater
END:VEVENT
END:VCALENDAR
