BEGIN:VCALENDAR
PRODID:-//sitepark/sitekit//3.0/EN
VERSION:2.0
CALSCALE:GREGORIAN
BEGIN:VEVENT
UID:114213-2026-07-22
DTSTAMP:20260422T111644Z
SUMMARY:con:trust  - Konzert
DESCRIPTION:
URL:https://www.salzgitter.de/veranstaltungskalender/Kultursommer/kultursom
 mer-contrust.php
DTSTART:20260722T180000Z
DTEND:20260722T215900Z
LOCATION:Museumstraße 34\, 38229 Salzgitter (Salder)
CATEGORIES:Konzert
END:VEVENT
END:VCALENDAR
