BEGIN:VCALENDAR
PRODID:-//sitepark/sitekit//3.0/EN
VERSION:2.0
CALSCALE:GREGORIAN
BEGIN:VEVENT
UID:111827-0
DTSTAMP:20260422T152142Z
SUMMARY:باروك_بلاس - حفلة موسيقية
DESCRIPTION:
URL:https://www.salzgitter.de/veranstaltungskalender/extern/barock_plus.php
DTSTART:20260426T150000Z
DTEND:20260426T215900Z
LOCATION:كنيسة الثالوث المقدس الإنجيلية\nفري
 دريش إيبرت شتراسه 42\n38259 سالزجيتر باد 38259
CATEGORIES:حفلة موسيقية
END:VEVENT
END:VCALENDAR
