BEGIN:VCALENDAR
PRODID:-//sitepark/sitekit//3.0/EN
VERSION:2.0
CALSCALE:GREGORIAN
BEGIN:VEVENT
UID:111827-0
DTSTAMP:20260422T140555Z
SUMMARY:Barock_Plus - Concert
DESCRIPTION:
URL:https://www.salzgitter.de/veranstaltungskalender/extern/barock_plus.php
DTSTART:20260426T150000Z
DTEND:20260426T215900Z
LOCATION:Église évangélique de la Sainte-Trinité\nFriedrich-Ebert-Stras
 se 42\n38259 Salzgitter-Bad
CATEGORIES:Concert
END:VEVENT
END:VCALENDAR
