BEGIN:VCALENDAR
PRODID:-//sitepark/sitekit//3.0/EN
VERSION:2.0
CALSCALE:GREGORIAN
BEGIN:VEVENT
UID:111827-0
DTSTAMP:20260422T135626Z
SUMMARY:Barock_Plus - Koncert
DESCRIPTION:
URL:https://www.salzgitter.de/veranstaltungskalender/extern/barock_plus.php
DTSTART:20260426T150000Z
DTEND:20260426T215900Z
LOCATION:Kościół ewangelicki Świętej Trójcy\nFriedrich-Ebert-Straße 
 42\n38259 Salzgitter-Bad
CATEGORIES:Koncert
END:VEVENT
END:VCALENDAR
