BEGIN:VCALENDAR
PRODID:-//sitepark/sitekit//3.0/EN
VERSION:2.0
CALSCALE:GREGORIAN
BEGIN:VEVENT
UID:111827-0
DTSTAMP:20260422T140904Z
SUMMARY:Barock_Plus - Концерт
DESCRIPTION:
URL:https://www.salzgitter.de/veranstaltungskalender/extern/barock_plus.php
DTSTART:20260426T150000Z
DTEND:20260426T215900Z
LOCATION:Евангелическая церковь Святой Трои
 цы\nФридрих-Эберт-штрассе 42\n38259 Зальцгит
 тер-Бад
CATEGORIES:Концерт
END:VEVENT
END:VCALENDAR
