BEGIN:VCALENDAR
PRODID:-//sitepark/sitekit//3.0/EN
VERSION:2.0
CALSCALE:GREGORIAN
BEGIN:VEVENT
UID:111827-0
DTSTAMP:20260422T140053Z
SUMMARY:Barock_Plus - концерт
DESCRIPTION:
URL:https://www.salzgitter.de/veranstaltungskalender/extern/barock_plus.php
DTSTART:20260426T150000Z
DTEND:20260426T215900Z
LOCATION:Євангельська Церква Пресвятої Трій
 ці\nФрідріх-Еберт-штрассе 42\n38259 Зальцгіт
 тер-Бад
CATEGORIES:Концерт
END:VEVENT
END:VCALENDAR
