BEGIN:VCALENDAR
PRODID:-//sitepark/sitekit//3.0/EN
VERSION:2.0
CALSCALE:GREGORIAN
BEGIN:VEVENT
UID:111827-0
DTSTAMP:20260422T140853Z
SUMMARY:Barock_Plus - Konzert
DESCRIPTION:
URL:https://www.salzgitter.de/veranstaltungskalender/extern/barock_plus.php
DTSTART:20260426T150000Z
DTEND:20260426T215900Z
LOCATION:Ev. Kirche Heilie Dreifaltigkeit\nFriedrich-Ebert-Straße 42\n3825
 9 Salzgitter-Bad
CATEGORIES:Konzert
END:VEVENT
END:VCALENDAR
