BEGIN:VCALENDAR
PRODID:-//sitepark/sitekit//3.0/EN
VERSION:2.0
CALSCALE:GREGORIAN
BEGIN:VEVENT
UID:116702-0
DTSTAMP:20260423T114954Z
SUMMARY:1 مايو: التجمع والاحتفال
DESCRIPTION:
URL:https://www.salzgitter.de/veranstaltungskalender/extern/kundgebung-1.ma
 i.php
DTSTART:20260501T081500Z
DTEND:20260501T215900Z
LOCATION:أرض المعارض في شارع نيسستراسيه\nمحطة
  الإطفاء القديمة
CATEGORIES:ثابت
END:VEVENT
END:VCALENDAR
