BEGIN:VCALENDAR
PRODID:-//sitepark/sitekit//3.0/EN
VERSION:2.0
CALSCALE:GREGORIAN
BEGIN:VEVENT
UID:116702-0
DTSTAMP:20260423T114302Z
SUMMARY:1 май: митинг и честване
DESCRIPTION:
URL:https://www.salzgitter.de/veranstaltungskalender/extern/kundgebung-1.ma
 i.php
DTSTART:20260501T081500Z
DTEND:20260501T215900Z
LOCATION:Панаирна площадка на Neißestraße\nСтара 
 пожарна станция
CATEGORIES:Фиксиран
END:VEVENT
END:VCALENDAR
