BEGIN:VCALENDAR
PRODID:-//sitepark/sitekit//3.0/EN
VERSION:2.0
CALSCALE:GREGORIAN
BEGIN:VEVENT
UID:116702-0
DTSTAMP:20260423T114843Z
SUMMARY:1er mai : manifestation et fête
DESCRIPTION:
URL:https://www.salzgitter.de/veranstaltungskalender/extern/kundgebung-1.ma
 i.php
DTSTART:20260501T081500Z
DTEND:20260501T215900Z
LOCATION:Place de fête à la Neißestraße\nAncienne caserne de pompiers
CATEGORIES:Fixe
END:VEVENT
END:VCALENDAR
