BEGIN:VCALENDAR
PRODID:-//sitepark/sitekit//3.0/EN
VERSION:2.0
CALSCALE:GREGORIAN
BEGIN:VEVENT
UID:116702-0
DTSTAMP:20260423T114721Z
SUMMARY:1 мая: митинг и празднование
DESCRIPTION:
URL:https://www.salzgitter.de/veranstaltungskalender/extern/kundgebung-1.ma
 i.php
DTSTART:20260501T081500Z
DTEND:20260501T215900Z
LOCATION:Ярмарочная площадь на улице Нейссеш
 трассе\nСтарая пожарная станция
CATEGORIES:Исправлено
END:VEVENT
END:VCALENDAR
