BEGIN:VCALENDAR
PRODID:-//sitepark/sitekit//3.0/EN
VERSION:2.0
CALSCALE:GREGORIAN
BEGIN:VEVENT
UID:56557-0
DTSTAMP:20260423T152557Z
SUMMARY:27e Festival de Klesmer et de musique du monde
DESCRIPTION:
URL:https://www.salzgitter.de/veranstaltungskalender/klesmerfestival-2026/k
 lesmerfestival-2026.php
DTSTART;VALUE=DATE:20260528
DTEND;VALUE=DATE:20260601
LOCATION:Klesmerplatz 0\, 38259 Salzgitter (Bad)
CATEGORIES:Fixe,Petits spectacles,Concert
END:VEVENT
END:VCALENDAR
