BEGIN:VCALENDAR
PRODID:-//sitepark/sitekit//3.0/EN
VERSION:2.0
CALSCALE:GREGORIAN
BEGIN:VEVENT
UID:114268-0
DTSTAMP:20260421T180353Z
SUMMARY:Muzeul Municipal al Castelului Salder - Festivalul Muzeelor
DESCRIPTION:
URL:https://www.salzgitter.de/veranstaltungskalender/museumsfest-2026.php
DTSTART;VALUE=DATE:20260508
DTEND;VALUE=DATE:20260511
LOCATION:Museumstraße 34\, 38229 Salzgitter (Salder)
CATEGORIES:Expoziție,Fix,Tineret,Copii,Târguri comerciale/marketuri,Cetă
 țeni în vârstă
END:VEVENT
END:VCALENDAR
