BEGIN:VCALENDAR
PRODID:-//sitepark/sitekit//3.0/EN
VERSION:2.0
CALSCALE:GREGORIAN
BEGIN:VEVENT
UID:114268-2026-05-09
DTSTAMP:20260421T153638Z
SUMMARY:Städtisches Museum Schloss Salder - Museumsfest
DESCRIPTION:
URL:https://www.salzgitter.de/veranstaltungskalender/museumsfest-2026.php
DTSTART;VALUE=DATE:20260508
DTEND;VALUE=DATE:20260511
LOCATION:Museumstraße 34\, 38229 Salzgitter (Salder)
CATEGORIES:Ausstellung,Feste,Jugend,Kinder,Messen/Märkte,Senioren
END:VEVENT
END:VCALENDAR
