BEGIN:VCALENDAR
PRODID:-//sitepark/sitekit//3.0/EN
VERSION:2.0
CALSCALE:GREGORIAN
BEGIN:VEVENT
UID:112674-2026-04-12
DTSTAMP:20260423T175936Z
SUMMARY:Verlängert! PLAYMOBIL Frühlingszauber - Ausstellung
DESCRIPTION:
URL:https://www.salzgitter.de/veranstaltungskalender/playmobilausstellung-s
 chloss-salder.php
DTSTART;VALUE=DATE:20260411
DTEND;VALUE=DATE:20260413
LOCATION:Museumstraße 34\, 38229 Salzgitter (Salder)
CATEGORIES:Ausstellung,Besichtigungen/Führungen,Jugend,Kinder
END:VEVENT
END:VCALENDAR
